BEGIN:VCALENDAR
VERSION:2.0
PRODID:-//Plone.org//NONSGML plone.app.event//EN
X-WR-TIMEZONE:America/Sao_Paulo
BEGIN:VEVENT
SUMMARY:Solução de equações diferenciais ordinárias no SCilab
DTSTART;TZID=America/Sao_Paulo;VALUE=DATE-TIME:20200605T100000
DTSTAMP;VALUE=DATE-TIME:20260424T020027Z
UID:620148afef514df18c3a7ee9a77fbce6@portal.ufvjm.edu.br
CONTACT:https://youtu.be/RaUw4KZpH7U
CREATED;VALUE=DATE-TIME:20200604T172246Z
DESCRIPTION:5 de junho
LAST-MODIFIED;VALUE=DATE-TIME:20250402T181547Z
LOCATION:Evento on-line
URL:https://portal.ufvjm.edu.br/agendas/eventos/2020/solucao-de-equacoes-d
 iferenciais-ordinarias-no-scilab
END:VEVENT
BEGIN:VTIMEZONE
TZID:America/Sao_Paulo
X-LIC-LOCATION:America/Sao_Paulo
BEGIN:STANDARD
DTSTART;VALUE=DATE-TIME:20200215T230000
TZNAME:BRT
TZOFFSETFROM:-0200
TZOFFSETTO:-0300
END:STANDARD
END:VTIMEZONE
END:VCALENDAR
