BEGIN:VCALENDAR
VERSION:2.0
PRODID:-//Plone.org//NONSGML plone.app.event//EN
X-WR-TIMEZONE:America/Sao_Paulo
BEGIN:VEVENT
SUMMARY:Sistema Agrícola Tradicional dos Apanhadores de Flores Sempre-Viv
 as (SAT Sempre-Vivas)
DTSTART;TZID=America/Sao_Paulo;VALUE=DATE-TIME:20201020T150000
DTSTAMP;VALUE=DATE-TIME:20260423T221019Z
UID:7b8a924834c74ebaaaa322d4df80ed2c@portal.ufvjm.edu.br
CONTACT:https://www.youtube.com/channel/UCxQn3UZINa1SaO3d1WPt7Xg
CREATED;VALUE=DATE-TIME:20201016T165703Z
DESCRIPTION:20 de outubro
LAST-MODIFIED;VALUE=DATE-TIME:20250402T181620Z
LOCATION:Evento on-line
URL:https://portal.ufvjm.edu.br/agendas/eventos/2020/sistema-agricola-trad
 icional-dos-apanhadores-de-flores-sempre-vivas-sat-sempre-vivas
END:VEVENT
BEGIN:VTIMEZONE
TZID:America/Sao_Paulo
X-LIC-LOCATION:America/Sao_Paulo
BEGIN:DAYLIGHT
DTSTART;VALUE=DATE-TIME:20201018T010000
TZNAME:BRST
TZOFFSETFROM:-0300
TZOFFSETTO:-0200
END:DAYLIGHT
END:VTIMEZONE
END:VCALENDAR
