BEGIN:VCALENDAR
VERSION:2.0
PRODID:-//Plone.org//NONSGML plone.app.event//EN
X-WR-TIMEZONE:America/Sao_Paulo
BEGIN:VEVENT
SUMMARY:Semana de Integração do Turismo
DTSTART;VALUE=DATE:20200317
DTEND;VALUE=DATE:20200320
DTSTAMP;VALUE=DATE-TIME:20260423T114346Z
UID:0820c7d36e9e4fac977240525927bc34@portal.ufvjm.edu.br
CREATED;VALUE=DATE-TIME:20200313T195930Z
DESCRIPTION:17 a 19 de março - Evento adiado temporariamente\, em razão 
 da suspensão do calendário acadêmico
LAST-MODIFIED;VALUE=DATE-TIME:20250402T181544Z
LOCATION:Núcleo de Turismo - Diamantina/MG
URL:https://portal.ufvjm.edu.br/agendas/eventos/2020/semana-de-integracao-
 do-turismo
END:VEVENT
END:VCALENDAR
