BEGIN:VCALENDAR
VERSION:2.0
PRODID:-//Plone.org//NONSGML plone.app.event//EN
X-WR-TIMEZONE:America/Sao_Paulo
BEGIN:VEVENT
SUMMARY:Saúde mental em pandemia
DTSTART;TZID=America/Sao_Paulo;VALUE=DATE-TIME:20201103T150000
DTSTAMP;VALUE=DATE-TIME:20260424T054321Z
UID:436e6d101c984e29a9b70206c9e7823d@portal.ufvjm.edu.br
CONTACT:https://www.instagram.com/p/CG2zLYRgmMK/?igshid=106a2x66d0yd2
CREATED;VALUE=DATE-TIME:20201029T191608Z
DESCRIPTION:3 de novembro
LAST-MODIFIED;VALUE=DATE-TIME:20250402T181626Z
LOCATION:Evento on-line
URL:https://portal.ufvjm.edu.br/agendas/eventos/2020/saude-mental-em-pande
 mia
END:VEVENT
BEGIN:VTIMEZONE
TZID:America/Sao_Paulo
X-LIC-LOCATION:America/Sao_Paulo
BEGIN:DAYLIGHT
DTSTART;VALUE=DATE-TIME:20201018T010000
TZNAME:BRST
TZOFFSETFROM:-0300
TZOFFSETTO:-0200
END:DAYLIGHT
END:VTIMEZONE
END:VCALENDAR
