BEGIN:VCALENDAR
VERSION:2.0
PRODID:-//Plone.org//NONSGML plone.app.event//EN
X-WR-TIMEZONE:America/Sao_Paulo
BEGIN:VEVENT
SUMMARY:Palestra "Luz pra quê?"
DTSTART;TZID=America/Sao_Paulo;VALUE=DATE-TIME:20201028T190000
DTEND;TZID=America/Sao_Paulo;VALUE=DATE-TIME:20201028T200000
DTSTAMP;VALUE=DATE-TIME:20260424T105555Z
UID:cf616d59cd2749f88712cd7bc9d296df@portal.ufvjm.edu.br
CONTACT:bit.ly/EngFisicaUFVJM
CREATED;VALUE=DATE-TIME:20201028T155415Z
DESCRIPTION:28 de outubro
LAST-MODIFIED;VALUE=DATE-TIME:20250402T181625Z
LOCATION:Evento on-line
URL:https://portal.ufvjm.edu.br/agendas/eventos/2020/palestra-luz-pra-que
END:VEVENT
BEGIN:VTIMEZONE
TZID:America/Sao_Paulo
X-LIC-LOCATION:America/Sao_Paulo
BEGIN:DAYLIGHT
DTSTART;VALUE=DATE-TIME:20201018T010000
TZNAME:BRST
TZOFFSETFROM:-0300
TZOFFSETTO:-0200
END:DAYLIGHT
END:VTIMEZONE
END:VCALENDAR
