BEGIN:VCALENDAR
VERSION:2.0
PRODID:-//Plone.org//NONSGML plone.app.event//EN
X-WR-TIMEZONE:America/Sao_Paulo
BEGIN:VEVENT
SUMMARY:Origem do universo\, Física\, Teoria Quântica\, Teoria da Gravit
 ação
DTSTART;TZID=America/Sao_Paulo;VALUE=DATE-TIME:20200617T100000
DTSTAMP;VALUE=DATE-TIME:20260424T201145Z
UID:3a94008a53cb48578a63a122f27d58fd@portal.ufvjm.edu.br
CREATED;VALUE=DATE-TIME:20200617T204006Z
DESCRIPTION:19 de junho
LAST-MODIFIED;VALUE=DATE-TIME:20250402T181552Z
LOCATION:Evento on-line
URL:https://portal.ufvjm.edu.br/agendas/eventos/2020/origem-do-universo-fi
 sica-teoria-quantica-teoria-da-gravitacao
END:VEVENT
BEGIN:VTIMEZONE
TZID:America/Sao_Paulo
X-LIC-LOCATION:America/Sao_Paulo
BEGIN:STANDARD
DTSTART;VALUE=DATE-TIME:20200215T230000
TZNAME:BRT
TZOFFSETFROM:-0200
TZOFFSETTO:-0300
END:STANDARD
END:VTIMEZONE
END:VCALENDAR
