BEGIN:VCALENDAR
VERSION:2.0
PRODID:-//Plone.org//NONSGML plone.app.event//EN
X-WR-TIMEZONE:America/Sao_Paulo
BEGIN:VEVENT
SUMMARY:Inovação e Mediação Tecnológica da UFVJM
DTSTART;TZID=America/Sao_Paulo;VALUE=DATE-TIME:20200615T090000
DTSTAMP;VALUE=DATE-TIME:20260423T234509Z
UID:e5fa634497c641d5b78eafea59c19a7b@portal.ufvjm.edu.br
RRULE:FREQ=DAILY;COUNT=7
RDATE;TZID=America/Sao_Paulo:20200616T000000
EXDATE;TZID=America/Sao_Paulo:20200617T000000,20200618T000000,20200619T000
 000,20200620T000000,20200621T000000
CREATED;VALUE=DATE-TIME:20200611T212520Z
DESCRIPTION:15 e 16 de junho
LAST-MODIFIED;VALUE=DATE-TIME:20250402T181549Z
LOCATION:Evento on-line
URL:https://portal.ufvjm.edu.br/agendas/eventos/2020/inovacao-e-mediacao-t
 ecnologica-da-ufvjm
END:VEVENT
BEGIN:VTIMEZONE
TZID:America/Sao_Paulo
X-LIC-LOCATION:America/Sao_Paulo
BEGIN:STANDARD
DTSTART;VALUE=DATE-TIME:20200215T230000
TZNAME:BRT
TZOFFSETFROM:-0200
TZOFFSETTO:-0300
END:STANDARD
END:VTIMEZONE
END:VCALENDAR
