BEGIN:VCALENDAR
VERSION:2.0
PRODID:-//Plone.org//NONSGML plone.app.event//EN
X-WR-TIMEZONE:America/Sao_Paulo
BEGIN:VEVENT
SUMMARY:Encontro Aberto do Núcleo de Estudos em Literaturas\, Artes e Sab
 eres
DTSTART;TZID=America/Sao_Paulo;VALUE=DATE-TIME:20200810T200000
DTSTAMP;VALUE=DATE-TIME:20260423T202805Z
UID:463531129ca1456cb6cf94f9ead383ad@portal.ufvjm.edu.br
CONTACT:https://tv.socializandosaberes.net.br/conferencias/?c=nelas
CREATED;VALUE=DATE-TIME:20200810T142350Z
DESCRIPTION:10 de agosto
LAST-MODIFIED;VALUE=DATE-TIME:20250402T181600Z
LOCATION:Evento on-line
URL:https://portal.ufvjm.edu.br/agendas/eventos/2020/encontro-aberto-do-nu
 cleo-de-estudos-em-literaturas-artes-e-saberes-1
END:VEVENT
BEGIN:VTIMEZONE
TZID:America/Sao_Paulo
X-LIC-LOCATION:America/Sao_Paulo
BEGIN:STANDARD
DTSTART;VALUE=DATE-TIME:20200215T230000
TZNAME:BRT
TZOFFSETFROM:-0200
TZOFFSETTO:-0300
END:STANDARD
END:VTIMEZONE
END:VCALENDAR
