BEGIN:VCALENDAR
VERSION:2.0
PRODID:-//Plone.org//NONSGML plone.app.event//EN
X-WR-TIMEZONE:America/Sao_Paulo
BEGIN:VEVENT
SUMMARY:Cursos de capacitação de ferramentas virtuais
DTSTART;VALUE=DATE:20200622
DTEND;VALUE=DATE:20200625
DTSTAMP;VALUE=DATE-TIME:20260424T181827Z
UID:b335b389091a420f920417411d8125d8@portal.ufvjm.edu.br
CREATED;VALUE=DATE-TIME:20200617T133106Z
DESCRIPTION:22 a 24 de junho
LAST-MODIFIED;VALUE=DATE-TIME:20250402T181551Z
LOCATION:Evento on-line
URL:https://portal.ufvjm.edu.br/agendas/eventos/2020/cursos-de-capacitacao
 -de-ferramentas-virtuais
END:VEVENT
END:VCALENDAR
