BEGIN:VCALENDAR
VERSION:2.0
PRODID:-//Plone.org//NONSGML plone.app.event//EN
X-WR-TIMEZONE:America/Sao_Paulo
BEGIN:VEVENT
SUMMARY:Covid-19 e suas múltiplas dimensões
DTSTART;TZID=America/Sao_Paulo;VALUE=DATE-TIME:20200915T160000
DTEND;TZID=America/Sao_Paulo;VALUE=DATE-TIME:20200917T170000
DTSTAMP;VALUE=DATE-TIME:20260423T202335Z
UID:c5d0d9d6e065432d8ed1e32d89e41635@portal.ufvjm.edu.br
CONTACT:https://www.even3.com.br/fammuconline/
CREATED;VALUE=DATE-TIME:20200911T192706Z
DESCRIPTION:15 a 17 de setembro
LAST-MODIFIED;VALUE=DATE-TIME:20250402T181612Z
LOCATION:Evento on-line
URL:https://portal.ufvjm.edu.br/agendas/eventos/2020/covid-19-e-suas-multi
 plas-dimensoes
END:VEVENT
BEGIN:VTIMEZONE
TZID:America/Sao_Paulo
X-LIC-LOCATION:America/Sao_Paulo
BEGIN:STANDARD
DTSTART;VALUE=DATE-TIME:20200215T230000
TZNAME:BRT
TZOFFSETFROM:-0200
TZOFFSETTO:-0300
END:STANDARD
END:VTIMEZONE
END:VCALENDAR
