BEGIN:VCALENDAR
VERSION:2.0
PRODID:-//Plone.org//NONSGML plone.app.event//EN
X-WR-TIMEZONE:America/Sao_Paulo
BEGIN:VEVENT
SUMMARY:Contação de história no Festival Nacional de Teatro de Teófilo
  Otoni (FESTTO)
DTSTART;TZID=America/Sao_Paulo;VALUE=DATE-TIME:20200725T100000
DTSTAMP;VALUE=DATE-TIME:20260423T190605Z
UID:3a9a3803c19c4fa183b397510132a2d7@portal.ufvjm.edu.br
CONTACT:https://www.incena.org/
CREATED;VALUE=DATE-TIME:20200722T191851Z
DESCRIPTION:25 de julho
LAST-MODIFIED;VALUE=DATE-TIME:20250402T181559Z
LOCATION:Evento on-line
URL:https://portal.ufvjm.edu.br/agendas/eventos/2020/contacao-de-historia-
 no-festival-nacional-de-teatro-de-teofilo-otoni-festto
END:VEVENT
BEGIN:VTIMEZONE
TZID:America/Sao_Paulo
X-LIC-LOCATION:America/Sao_Paulo
BEGIN:STANDARD
DTSTART;VALUE=DATE-TIME:20200215T230000
TZNAME:BRT
TZOFFSETFROM:-0200
TZOFFSETTO:-0300
END:STANDARD
END:VTIMEZONE
END:VCALENDAR
