BEGIN:VCALENDAR
VERSION:2.0
PRODID:-//Plone.org//NONSGML plone.app.event//EN
X-WR-TIMEZONE:America/Sao_Paulo
BEGIN:VEVENT
SUMMARY:Ciclo de palestras: Dimensões pedagógicas da Educação Física
DTSTART;TZID=America/Sao_Paulo;VALUE=DATE-TIME:20201111T190000
DTSTAMP;VALUE=DATE-TIME:20260423T223054Z
UID:f7f822c3447040f581849b2f578aaca2@portal.ufvjm.edu.br
RRULE:FREQ=DAILY;COUNT=3;INTERVAL=3
RDATE;TZID=America/Sao_Paulo:20201118T000000,20201119T000000
EXDATE;TZID=America/Sao_Paulo:20201108T000000,20201114T000000,20201117T000
 000
CONTACT:https://www.youtube.com/channel/UC9oNYD-K8yWCUIaxfwxg5Sw
CREATED;VALUE=DATE-TIME:20201105T203746Z
DESCRIPTION:11\, 18 e 19 de novembro
LAST-MODIFIED;VALUE=DATE-TIME:20250402T181628Z
LOCATION:Evento on-line
URL:https://portal.ufvjm.edu.br/agendas/eventos/2020/ciclo-de-palestras-di
 mensoes-pedagogicas-da-educacao-fisica
END:VEVENT
BEGIN:VTIMEZONE
TZID:America/Sao_Paulo
X-LIC-LOCATION:America/Sao_Paulo
BEGIN:DAYLIGHT
DTSTART;VALUE=DATE-TIME:20201018T010000
TZNAME:BRST
TZOFFSETFROM:-0300
TZOFFSETTO:-0200
END:DAYLIGHT
END:VTIMEZONE
END:VCALENDAR
