BEGIN:VCALENDAR
VERSION:2.0
PRODID:-//Plone.org//NONSGML plone.app.event//EN
X-WR-TIMEZONE:America/Sao_Paulo
BEGIN:VEVENT
SUMMARY:Aula inaugural da Educação Física
DTSTART;TZID=America/Sao_Paulo;VALUE=DATE-TIME:20200304T190000
DTSTAMP;VALUE=DATE-TIME:20260424T163751Z
UID:7c03df96189c43db9f85272e735f1622@portal.ufvjm.edu.br
CREATED;VALUE=DATE-TIME:20200228T141118Z
DESCRIPTION:4 de março
LAST-MODIFIED;VALUE=DATE-TIME:20250402T181540Z
LOCATION:Campus JK - Diamantina/MG
URL:https://portal.ufvjm.edu.br/agendas/eventos/2020/aula-inaugural-da-edu
 cacao-fisica
END:VEVENT
BEGIN:VTIMEZONE
TZID:America/Sao_Paulo
X-LIC-LOCATION:America/Sao_Paulo
BEGIN:STANDARD
DTSTART;VALUE=DATE-TIME:20200215T230000
TZNAME:BRT
TZOFFSETFROM:-0200
TZOFFSETTO:-0300
END:STANDARD
END:VTIMEZONE
END:VCALENDAR
