BEGIN:VCALENDAR
VERSION:2.0
PRODID:-//Plone.org//NONSGML plone.app.event//EN
X-WR-TIMEZONE:America/Sao_Paulo
BEGIN:VEVENT
SUMMARY:AgrOnline
DTSTART;VALUE=DATE:20200526
DTEND;VALUE=DATE:20200529
DTSTAMP;VALUE=DATE-TIME:20260423T184155Z
UID:f18807640d8b4c5ba40a866da0e487cf@portal.ufvjm.edu.br
CONTACT:https://wesleysantiago.com.br/webinar-agroonline/
CREATED;VALUE=DATE-TIME:20200519T211547Z
DESCRIPTION:26 a 28 de maio
LAST-MODIFIED;VALUE=DATE-TIME:20250402T181547Z
LOCATION:Evento on-line
URL:https://portal.ufvjm.edu.br/agendas/eventos/2020/agronline
END:VEVENT
END:VCALENDAR
