BEGIN:VCALENDAR
VERSION:2.0
PRODID:-//Plone.org//NONSGML plone.app.event//EN
X-WR-TIMEZONE:America/Sao_Paulo
BEGIN:VEVENT
SUMMARY:A engenharia e as novas diretrizes curriculares nacionais
DTSTART;TZID=America/Sao_Paulo;VALUE=DATE-TIME:20200729T150000
DTSTAMP;VALUE=DATE-TIME:20260423T232431Z
UID:789ae0251f084fca89e9f257bdf7bbf1@portal.ufvjm.edu.br
CONTACT:https://youtu.be/aCqjJwWwF4g
CREATED;VALUE=DATE-TIME:20200727T185537Z
DESCRIPTION:29 de julho
LAST-MODIFIED;VALUE=DATE-TIME:20250402T181559Z
LOCATION:Evento on-line
URL:https://portal.ufvjm.edu.br/agendas/eventos/2020/a-engenharia-e-as-nov
 as-diretrizes-curriculares-nacionais
END:VEVENT
BEGIN:VTIMEZONE
TZID:America/Sao_Paulo
X-LIC-LOCATION:America/Sao_Paulo
BEGIN:STANDARD
DTSTART;VALUE=DATE-TIME:20200215T230000
TZNAME:BRT
TZOFFSETFROM:-0200
TZOFFSETTO:-0300
END:STANDARD
END:VTIMEZONE
END:VCALENDAR
