BEGIN:VCALENDAR
VERSION:2.0
PRODID:-//Plone.org//NONSGML plone.app.event//EN
X-WR-TIMEZONE:America/Sao_Paulo
BEGIN:VEVENT
SUMMARY:9º Congresso Brasileiro de Extensão Universitária
DTSTART;VALUE=DATE:20200715
DTEND;VALUE=DATE:20200718
DTSTAMP;VALUE=DATE-TIME:20260424T012512Z
UID:e302cbab67d741a1bf2ca303676efe85@portal.ufvjm.edu.br
CONTACT:https://www.ufmg.br/cbeu/
CREATED;VALUE=DATE-TIME:20200206T191200Z
DESCRIPTION:15 a 17 de julho - Evento temporariamente suspenso
LAST-MODIFIED;VALUE=DATE-TIME:20250402T181539Z
LOCATION:Belo Horizonte
URL:https://portal.ufvjm.edu.br/agendas/eventos/2020/9-congresso-brasileir
 o-de-extensao-universitaria
END:VEVENT
END:VCALENDAR
