BEGIN:VCALENDAR
VERSION:2.0
PRODID:-//Plone.org//NONSGML plone.app.event//EN
X-WR-TIMEZONE:America/Sao_Paulo
BEGIN:VEVENT
SUMMARY:3º Encontro Regional de Ensino de Geografia do Espinhaço
DTSTART;VALUE=DATE:20201215
DTEND;VALUE=DATE:20201218
DTSTAMP;VALUE=DATE-TIME:20260424T012816Z
UID:80a1fcbad6ec4f7d9fb570c5a5f8b4b4@portal.ufvjm.edu.br
CONTACT:https://doity.com.br/ead-uiii-encontro-regional-de-ensino-de-geogr
 afia-do-espinhao-fvjm-desafios-e-perspectivas-para-o-en
CREATED;VALUE=DATE-TIME:20201123T194824Z
DESCRIPTION:15 a 17 de dezembro
LAST-MODIFIED;VALUE=DATE-TIME:20250402T181644Z
LOCATION:Evento on-line
URL:https://portal.ufvjm.edu.br/agendas/eventos/2020/3-encontro-regional-d
 e-ensino-de-geografia-do-espinhaco
END:VEVENT
END:VCALENDAR
