BEGIN:VCALENDAR
VERSION:2.0
PRODID:-//Plone.org//NONSGML plone.app.event//EN
X-WR-TIMEZONE:America/Sao_Paulo
BEGIN:VEVENT
SUMMARY:1º Congresso de Nutrição e Saúde da UFVJM
DTSTART;TZID=America/Sao_Paulo;VALUE=DATE-TIME:20201208T170000
DTEND;TZID=America/Sao_Paulo;VALUE=DATE-TIME:20201210T170000
DTSTAMP;VALUE=DATE-TIME:20260423T220612Z
UID:edccc459643741068fbf4db43039dc50@portal.ufvjm.edu.br
CONTACT:https://www.even3.com.br/icns/
CREATED;VALUE=DATE-TIME:20201014T203953Z
DESCRIPTION:8 a 10 de dezembro
LAST-MODIFIED;VALUE=DATE-TIME:20250402T181619Z
LOCATION:Evento on-line
URL:https://portal.ufvjm.edu.br/agendas/eventos/2020/1-congresso-de-nutric
 ao-e-saude-da-ufvjm
END:VEVENT
BEGIN:VTIMEZONE
TZID:America/Sao_Paulo
X-LIC-LOCATION:America/Sao_Paulo
BEGIN:DAYLIGHT
DTSTART;VALUE=DATE-TIME:20201018T010000
TZNAME:BRST
TZOFFSETFROM:-0300
TZOFFSETTO:-0200
END:DAYLIGHT
END:VTIMEZONE
END:VCALENDAR
