BEGIN:VCALENDAR
VERSION:2.0
PRODID:-//Plone.org//NONSGML plone.app.event//EN
X-WR-TIMEZONE:America/Sao_Paulo
BEGIN:VEVENT
SUMMARY:UFVJM e IFNMG realizam evento sobre inovação e metodologias no e
 nsino superior
DTSTART;TZID=America/Sao_Paulo;VALUE=DATE-TIME:20190531T170000
DTEND;TZID=America/Sao_Paulo;VALUE=DATE-TIME:20190531T180000
DTSTAMP;VALUE=DATE-TIME:20260423T221311Z
UID:c93a7764cbdf41deb2c394bd2ccdbff0@10.254.32.3:8081
CREATED;VALUE=DATE-TIME:20190531T201826Z
DESCRIPTION:Dias 2 a 4 de julho.
LAST-MODIFIED;VALUE=DATE-TIME:20250402T182440Z
URL:https://portal.ufvjm.edu.br/agendas/eventos/2019/ufvjm-e-ifnmg-realiza
 m-evento-sobre-inovacao-e-metodologias-no-ensino-superior
END:VEVENT
BEGIN:VTIMEZONE
TZID:America/Sao_Paulo
X-LIC-LOCATION:America/Sao_Paulo
BEGIN:STANDARD
DTSTART;VALUE=DATE-TIME:20190216T230000
TZNAME:BRT
TZOFFSETFROM:-0200
TZOFFSETTO:-0300
END:STANDARD
END:VTIMEZONE
END:VCALENDAR
