BEGIN:VCALENDAR
VERSION:2.0
PRODID:-//Plone.org//NONSGML plone.app.event//EN
X-WR-TIMEZONE:America/Sao_Paulo
BEGIN:VEVENT
SUMMARY:Transmissão de cargo ao reitor e vice-reitor
DTSTART;TZID=America/Sao_Paulo;VALUE=DATE-TIME:20190912T180000
DTSTAMP;VALUE=DATE-TIME:20260423T220608Z
UID:8f859fa638e64adc9c1015f73d896af8@portal.ufvjm.edu.br
CREATED;VALUE=DATE-TIME:20190911T193924Z
DESCRIPTION:12 de setembro\, às 18h
LAST-MODIFIED;VALUE=DATE-TIME:20250402T182459Z
LOCATION:Campus I - Diamantina/MG
URL:https://portal.ufvjm.edu.br/agendas/eventos/2019/transmissao-de-cargo-
 ao-reitor-e-vice-reitor
END:VEVENT
BEGIN:VTIMEZONE
TZID:America/Sao_Paulo
X-LIC-LOCATION:America/Sao_Paulo
BEGIN:STANDARD
DTSTART;VALUE=DATE-TIME:20190216T230000
TZNAME:BRT
TZOFFSETFROM:-0200
TZOFFSETTO:-0300
END:STANDARD
END:VTIMEZONE
END:VCALENDAR
