BEGIN:VCALENDAR
VERSION:2.0
PRODID:-//Plone.org//NONSGML plone.app.event//EN
X-WR-TIMEZONE:America/Sao_Paulo
BEGIN:VEVENT
SUMMARY:Semana Acadêmica de Ciências Econômicas
DTSTART;VALUE=DATE:20191127
DTEND;VALUE=DATE:20191130
DTSTAMP;VALUE=DATE-TIME:20260422T125159Z
UID:8768898c75ce41768825aa9a9eb778b4@portal.ufvjm.edu.br
CONTACT:https://www.cevibra.com.br/eventos/ii-semana-academica-do-curso-de
 -ciencias-economicas
CREATED;VALUE=DATE-TIME:20191126T201433Z
DESCRIPTION:27 a 29 de novembro
LAST-MODIFIED;VALUE=DATE-TIME:20250402T182537Z
LOCATION:Campus do Mucuri - Teófilo Otoni/MG
URL:https://portal.ufvjm.edu.br/agendas/eventos/2019/semana-academica-de-c
 iencias-economicas
END:VEVENT
END:VCALENDAR
