BEGIN:VCALENDAR
VERSION:2.0
PRODID:-//Plone.org//NONSGML plone.app.event//EN
X-WR-TIMEZONE:America/Sao_Paulo
BEGIN:VEVENT
SUMMARY:Rede de Proteção e Cuidado à Criança e Adolescente: construind
 o caminhos
DTSTART;TZID=America/Sao_Paulo;VALUE=DATE-TIME:20191210T130000
DTEND;TZID=America/Sao_Paulo;VALUE=DATE-TIME:20191210T180000
DTSTAMP;VALUE=DATE-TIME:20260425T144003Z
UID:7d3b3895fc2648a8b87e17b88342da1b@portal.ufvjm.edu.br
CREATED;VALUE=DATE-TIME:20191206T194722Z
DESCRIPTION:10 de dezembro
LAST-MODIFIED;VALUE=DATE-TIME:20250402T182540Z
URL:https://portal.ufvjm.edu.br/agendas/eventos/2019/rede-de-protecao-e-cu
 idado-a-crianca-e-adolescente-construindo-caminhos
END:VEVENT
BEGIN:VTIMEZONE
TZID:America/Sao_Paulo
X-LIC-LOCATION:America/Sao_Paulo
BEGIN:DAYLIGHT
DTSTART;VALUE=DATE-TIME:20191020T010000
TZNAME:BRST
TZOFFSETFROM:-0300
TZOFFSETTO:-0200
END:DAYLIGHT
END:VTIMEZONE
END:VCALENDAR
