BEGIN:VCALENDAR
VERSION:2.0
PRODID:-//Plone.org//NONSGML plone.app.event//EN
X-WR-TIMEZONE:America/Sao_Paulo
BEGIN:VEVENT
SUMMARY:Quando Sinto que já Sei - Cine Clube
DTSTART;VALUE=DATE:20190624
DTEND;VALUE=DATE:20190625
DTSTAMP;VALUE=DATE-TIME:20260423T184148Z
UID:01a596727e284f85be371acc4e31e4ac@10.254.32.3:8081
CREATED;VALUE=DATE-TIME:20190624T171722Z
DESCRIPTION:24 de junho
LAST-MODIFIED;VALUE=DATE-TIME:20250402T182444Z
LOCATION:Campus JK
URL:https://portal.ufvjm.edu.br/agendas/eventos/2019/quando-sinto-que-ja-s
 ei-cine-clube
END:VEVENT
END:VCALENDAR
