BEGIN:VCALENDAR
VERSION:2.0
PRODID:-//Plone.org//NONSGML plone.app.event//EN
X-WR-TIMEZONE:America/Sao_Paulo
BEGIN:VEVENT
SUMMARY:Palestra "Exploração Comercial de Animais Silvestres"
DTSTART;VALUE=DATE:20190702
DTEND;VALUE=DATE:20190703
DTSTAMP;VALUE=DATE-TIME:20260423T202623Z
UID:766a21ca63d641f5a1896df978149c0c@10.254.32.3:8081
CREATED;VALUE=DATE-TIME:20190701T183057Z
DESCRIPTION:02 de Julho\, às 18 horas.
LAST-MODIFIED;VALUE=DATE-TIME:20250402T182445Z
LOCATION:Auditório do Departamento de Zootecnia
URL:https://portal.ufvjm.edu.br/agendas/eventos/2019/palestra-exploracao-c
 omercial-de-animais-silvestres-2-de-julho-campus-jk
END:VEVENT
END:VCALENDAR
