BEGIN:VCALENDAR
VERSION:2.0
PRODID:-//Plone.org//NONSGML plone.app.event//EN
X-WR-TIMEZONE:America/Sao_Paulo
BEGIN:VEVENT
SUMMARY:Mesa-redonda "A geopolítica das fake news: os impactos da era da 
 internet na ordem mundial"
DTSTART;TZID=America/Sao_Paulo;VALUE=DATE-TIME:20191014T190000
DTEND;TZID=America/Sao_Paulo;VALUE=DATE-TIME:20191014T210000
DTSTAMP;VALUE=DATE-TIME:20260423T202822Z
UID:5104cfdd90eb458aa9114798cc420004@portal.ufvjm.edu.br
CREATED;VALUE=DATE-TIME:20191010T192336Z
DESCRIPTION:14 de outubro
LAST-MODIFIED;VALUE=DATE-TIME:20250402T182509Z
LOCATION:Campus JK - Diamantina/MG
URL:https://portal.ufvjm.edu.br/agendas/eventos/2019/mesa-redonda-com-tema
 -a-geopolitica-das-fake-news-os-impactos-da-era-da-internet-na-ordem-mundi
 al
END:VEVENT
BEGIN:VTIMEZONE
TZID:America/Sao_Paulo
X-LIC-LOCATION:America/Sao_Paulo
BEGIN:STANDARD
DTSTART;VALUE=DATE-TIME:20190216T230000
TZNAME:BRT
TZOFFSETFROM:-0200
TZOFFSETTO:-0300
END:STANDARD
END:VTIMEZONE
END:VCALENDAR
