BEGIN:VCALENDAR
VERSION:2.0
PRODID:-//Plone.org//NONSGML plone.app.event//EN
X-WR-TIMEZONE:America/Sao_Paulo
BEGIN:VEVENT
SUMMARY:Inauguração do prédio da Diretoria de Educação Aberta e a Dis
 tância
DTSTART;VALUE=DATE:20190705
DTEND;VALUE=DATE:20190706
DTSTAMP;VALUE=DATE-TIME:20260424T012043Z
UID:845b3a52b29e43d38ee8ea168cb88da1@10.254.32.3:8081
CREATED;VALUE=DATE-TIME:20190702T192542Z
DESCRIPTION:05 de julho.
LAST-MODIFIED;VALUE=DATE-TIME:20250402T182445Z
URL:https://portal.ufvjm.edu.br/agendas/eventos/2019/inauguracao-do-predio
 -da-diretoria-de-educacao-aberta-e-a-distancia
END:VEVENT
END:VCALENDAR
