BEGIN:VCALENDAR
VERSION:2.0
PRODID:-//Plone.org//NONSGML plone.app.event//EN
X-WR-TIMEZONE:America/Sao_Paulo
BEGIN:VEVENT
SUMMARY:Cantata de Natal da UFVJM
DTSTART;TZID=America/Sao_Paulo;VALUE=DATE-TIME:20191218T150000
DTSTAMP;VALUE=DATE-TIME:20260424T203130Z
UID:787032261c1e41b8b7f4eca54a70e44b@portal.ufvjm.edu.br
CREATED;VALUE=DATE-TIME:20191209T152911Z
DESCRIPTION:18 de dezembro
LAST-MODIFIED;VALUE=DATE-TIME:20250402T182541Z
LOCATION:Campus JK - Diamantina/MG
URL:https://portal.ufvjm.edu.br/agendas/eventos/2019/cantata-de-natal-da-u
 fvjm
END:VEVENT
BEGIN:VTIMEZONE
TZID:America/Sao_Paulo
X-LIC-LOCATION:America/Sao_Paulo
BEGIN:DAYLIGHT
DTSTART;VALUE=DATE-TIME:20191020T010000
TZNAME:BRST
TZOFFSETFROM:-0300
TZOFFSETTO:-0200
END:DAYLIGHT
END:VTIMEZONE
END:VCALENDAR
