BEGIN:VCALENDAR
VERSION:2.0
PRODID:-//Plone.org//NONSGML plone.app.event//EN
X-WR-TIMEZONE:America/Sao_Paulo
BEGIN:VEVENT
SUMMARY:5º Simpósio de Produção Animal
DTSTART;VALUE=DATE:20191016
DTEND;VALUE=DATE:20191019
DTSTAMP;VALUE=DATE-TIME:20260424T062121Z
UID:da89e0e3a52048deab39416553f9765f@10.254.32.3:8081
CONTACT:https://simpaufvjm.wixsite.com/website
CREATED;VALUE=DATE-TIME:20190815T150013Z
DESCRIPTION:16 a 18 de outubro
LAST-MODIFIED;VALUE=DATE-TIME:20250402T182454Z
LOCATION:Diamantina
URL:https://portal.ufvjm.edu.br/agendas/eventos/2019/5-simposio-de-produca
 o-animal
END:VEVENT
END:VCALENDAR
