BEGIN:VCALENDAR
VERSION:2.0
PRODID:-//Plone.org//NONSGML plone.app.event//EN
X-WR-TIMEZONE:America/Sao_Paulo
BEGIN:VEVENT
SUMMARY:5º Seminário Nacional População\, Espaço e Ambiente e 18º Se
 minário de Diamantina
DTSTART;VALUE=DATE:20190819
DTEND;VALUE=DATE:20190824
DTSTAMP;VALUE=DATE-TIME:20260423T184205Z
UID:8d3900732dfa4e05b49ce0611a386953@10.254.32.3:8081
CONTACT:https://seminariopopea558982540.wordpress.com/
CREATED;VALUE=DATE-TIME:20190610T180853Z
DESCRIPTION:19 a 23 de agosto
LAST-MODIFIED;VALUE=DATE-TIME:20250402T182443Z
LOCATION:Casa da Glória - Diamantina/MG
URL:https://portal.ufvjm.edu.br/agendas/eventos/2019/5-seminario-nacional-
 populacao-espaco-e-ambiente
END:VEVENT
END:VCALENDAR
