BEGIN:VCALENDAR
VERSION:2.0
PRODID:-//Plone.org//NONSGML plone.app.event//EN
X-WR-TIMEZONE:America/Sao_Paulo
BEGIN:VEVENT
SUMMARY:3º Festival Pré-Olímpico UFVJM
DTSTART;VALUE=DATE:20190521
DTEND;VALUE=DATE:20190624
DTSTAMP;VALUE=DATE-TIME:20260423T054625Z
UID:c4582a5725134625b6f84ab5f6bd5b3f@10.254.32.3:8080
CREATED;VALUE=DATE-TIME:20190514T172813Z
DESCRIPTION:21 de maio a 23 de julho.
LAST-MODIFIED;VALUE=DATE-TIME:20250402T182435Z
LOCATION:Ginásio Poliesportivo - UFVJM
URL:https://portal.ufvjm.edu.br/agendas/eventos/2019/3-festival-pre-olimpi
 co-ufvjm
END:VEVENT
END:VCALENDAR
