BEGIN:VCALENDAR
VERSION:2.0
PRODID:-//Plone.org//NONSGML plone.app.event//EN
X-WR-TIMEZONE:America/Sao_Paulo
BEGIN:VEVENT
SUMMARY:2ª Semana da Engenharia
DTSTART;TZID=America/Sao_Paulo;VALUE=DATE-TIME:20190708T150000
DTEND;TZID=America/Sao_Paulo;VALUE=DATE-TIME:20190708T160000
DTSTAMP;VALUE=DATE-TIME:20260425T150014Z
UID:f5401def9e1a44e3a43deaf3252b8cde@10.254.32.3:8081
CREATED;VALUE=DATE-TIME:20190708T182738Z
DESCRIPTION:9 a 13 de setembro
LAST-MODIFIED;VALUE=DATE-TIME:20250402T182448Z
LOCATION:Campus do Mucuri - Teófilo Otoni
URL:https://portal.ufvjm.edu.br/agendas/eventos/2019/2-semana-da-engenhari
 a
END:VEVENT
BEGIN:VTIMEZONE
TZID:America/Sao_Paulo
X-LIC-LOCATION:America/Sao_Paulo
BEGIN:STANDARD
DTSTART;VALUE=DATE-TIME:20190216T230000
TZNAME:BRT
TZOFFSETFROM:-0200
TZOFFSETTO:-0300
END:STANDARD
END:VTIMEZONE
END:VCALENDAR
