BEGIN:VCALENDAR
VERSION:2.0
PRODID:-//Plone.org//NONSGML plone.app.event//EN
X-WR-TIMEZONE:America/Sao_Paulo
BEGIN:VEVENT
SUMMARY:2º Encontro de Saúde Mental da UFVJM
DTSTART;VALUE=DATE:20190626
DTEND;VALUE=DATE:20190627
DTSTAMP;VALUE=DATE-TIME:20260423T195532Z
UID:a2b987ecddf844c38f02c50216544735@10.254.32.3:8081
CREATED;VALUE=DATE-TIME:20190618T200315Z
DESCRIPTION:26 de junho.
LAST-MODIFIED;VALUE=DATE-TIME:20250402T182444Z
LOCATION:Campus JK
URL:https://portal.ufvjm.edu.br/agendas/eventos/2019/2-encontro-de-saude-m
 ental-da-ufvjm
END:VEVENT
END:VCALENDAR
