BEGIN:VCALENDAR
VERSION:2.0
PRODID:-//Plone.org//NONSGML plone.app.event//EN
X-WR-TIMEZONE:America/Sao_Paulo
BEGIN:VEVENT
SUMMARY:2º Encontro de Estudos Rurais
DTSTART;VALUE=DATE:20191106
DTEND;VALUE=DATE:20191109
DTSTAMP;VALUE=DATE-TIME:20260423T094730Z
UID:b70b591b31494f439177720e767b1dc9@portal.ufvjm.edu.br
CONTACT:https://doity.com.br/2eerufvjm
CREATED;VALUE=DATE-TIME:20191106T181055Z
DESCRIPTION:6 a 8 de novembro
LAST-MODIFIED;VALUE=DATE-TIME:20250402T182532Z
LOCATION:Diamantina
URL:https://portal.ufvjm.edu.br/agendas/eventos/2019/2-encontro-de-estudos
 -rurais
END:VEVENT
END:VCALENDAR
