BEGIN:VCALENDAR
VERSION:2.0
PRODID:-//Plone.org//NONSGML plone.app.event//EN
X-WR-TIMEZONE:America/Sao_Paulo
BEGIN:VEVENT
SUMMARY:1ª Semana das Engenharias
DTSTART;VALUE=DATE:20191125
DTEND;VALUE=DATE:20191130
DTSTAMP;VALUE=DATE-TIME:20260423T204357Z
UID:39616fbb247f44968643a044bd3eb8c8@portal.ufvjm.edu.br
CONTACT:https://sites.google.com/view/semeng/programa%C3%A7%C3%A3o
CREATED;VALUE=DATE-TIME:20191011T145532Z
DESCRIPTION:25 a 29 de novembro
LAST-MODIFIED;VALUE=DATE-TIME:20250402T182510Z
LOCATION:Campus Janaúba
URL:https://portal.ufvjm.edu.br/agendas/eventos/2019/1-semana-das-engenhar
 ias
END:VEVENT
END:VCALENDAR
