BEGIN:VCALENDAR
VERSION:2.0
PRODID:-//Plone.org//NONSGML plone.app.event//EN
X-WR-TIMEZONE:America/Sao_Paulo
BEGIN:VEVENT
SUMMARY:1ª Mostra Multicultural Encontros de Inverno
DTSTART;VALUE=DATE:20190705
DTEND;VALUE=DATE:20190720
DTSTAMP;VALUE=DATE-TIME:20260423T014315Z
UID:beb3e660612949afa5d4a5e62ec8495f@10.254.32.3:8081
CREATED;VALUE=DATE-TIME:20190708T182334Z
DESCRIPTION:5 a 19 de julho
LAST-MODIFIED;VALUE=DATE-TIME:20250402T182447Z
URL:https://portal.ufvjm.edu.br/agendas/eventos/2019/1-mostra-multicultura
 l-encontros-de-inverno
END:VEVENT
END:VCALENDAR
