BEGIN:VCALENDAR
VERSION:2.0
PRODID:-//Plone.org//NONSGML plone.app.event//EN
X-WR-TIMEZONE:America/Sao_Paulo
BEGIN:VEVENT
SUMMARY:1ª Jornada de Línguas Estrangeiras
DTSTART;VALUE=DATE:20191122
DTEND;VALUE=DATE:20191123
DTSTAMP;VALUE=DATE-TIME:20260423T204357Z
UID:c7997f5b9d164cada7a30a04fd08db98@portal.ufvjm.edu.br
CONTACT:https://doity.com.br/i-jornada-de-linguas-estrangeiras-do-nucli-is
 fufvjm#about
CREATED;VALUE=DATE-TIME:20191030T201537Z
DESCRIPTION:22 de novembro
LAST-MODIFIED;VALUE=DATE-TIME:20250402T182523Z
LOCATION:Campus JK - Diamantina/MG
URL:https://portal.ufvjm.edu.br/agendas/eventos/2019/1-jornada-de-linguas-
 estrangeiras
END:VEVENT
END:VCALENDAR
