BEGIN:VCALENDAR
PRODID:brasil.gov.agenda
VERSION:1.0
BEGIN:VEVENT
DTSTART:20221110T080000Z
DTEND:20221110T120000Z
DCREATED:20221110T113438Z
UID:Compromisso-cb81f385fdc144e5b2c29aa7fe2bd2e0
SEQUENCE:0
LAST-MODIFIED:20221110T113438Z
SUMMARY:Despachos Internos
LOCATION:Reitoria
PRIORITY:3
TRANSP:0
END:VEVENT
END:VCALENDAR
