BEGIN:VCALENDAR
PRODID:brasil.gov.agenda
VERSION:1.0
BEGIN:VEVENT
DTSTART:20221110T140000Z
DTEND:20221110T180000Z
DCREATED:20221110T113504Z
UID:Compromisso-b5d53b3443034d0c9dc3987906930988
SEQUENCE:0
LAST-MODIFIED:20221110T113504Z
SUMMARY:Despachos Internos
LOCATION:Reitoria
PRIORITY:3
TRANSP:0
END:VEVENT
END:VCALENDAR
