BEGIN:VCALENDAR
PRODID:brasil.gov.agenda
VERSION:1.0
BEGIN:VEVENT
DTSTART:20221109T143000Z
DTEND:20221109T160000Z
DCREATED:20221109T120713Z
UID:Compromisso-e1f88ff781d542c3ba5e5853fb50507f
SEQUENCE:0
LAST-MODIFIED:20221109T120713Z
SUMMARY:Reunião Vice-Reitor e Diretor de Governança Institucional
LOCATION:Reitoria
PRIORITY:3
TRANSP:0
END:VEVENT
END:VCALENDAR
