BEGIN:VCALENDAR
PRODID:brasil.gov.agenda
VERSION:1.0
BEGIN:VEVENT
DTSTART:20221109T083000Z
DTEND:20221109T120000Z
DCREATED:20221109T120649Z
UID:Compromisso-21269b935b4645c68459a0c720fd019d
SEQUENCE:0
LAST-MODIFIED:20221109T120649Z
SUMMARY:Reunião Secretária do CONSEPE
LOCATION:Reitoria
PRIORITY:3
TRANSP:0
END:VEVENT
END:VCALENDAR
