BEGIN:VCALENDAR
PRODID:brasil.gov.agenda
VERSION:1.0
BEGIN:VEVENT
DTSTART:20221108T083000Z
DTEND:20221108T120000Z
DCREATED:20221108T172600Z
UID:Compromisso-5f6ac83fba314b29a89a3e8eb797115b
SEQUENCE:0
LAST-MODIFIED:20221108T172600Z
SUMMARY:Reunião com a Secretária dos Conselhos Superiores
LOCATION:Reitoria
PRIORITY:3
TRANSP:0
END:VEVENT
END:VCALENDAR
