BEGIN:VCALENDAR
PRODID:brasil.gov.agenda
VERSION:1.0
BEGIN:VEVENT
DTSTART:20221108T143000Z
DTEND:20221108T160000Z
DCREATED:20221108T172626Z
UID:Compromisso-7de8edb30e1b4b459711a5aeae09db38
SEQUENCE:0
LAST-MODIFIED:20221108T172626Z
SUMMARY:Reunião com a Secretária dos Conselhos Superiores
LOCATION:Reitoria
PRIORITY:3
TRANSP:0
END:VEVENT
END:VCALENDAR
