BEGIN:VCALENDAR
PRODID:brasil.gov.agenda
VERSION:1.0
BEGIN:VEVENT
DTSTART:20221108T160000Z
DTEND:20221108T180000Z
DCREATED:20221108T172648Z
UID:Compromisso-879ce1b72c3e4756ab1163e50d43c3b0
SEQUENCE:0
LAST-MODIFIED:20221108T172648Z
SUMMARY:Reunião com a Secretária de Processos Administrativos
LOCATION:Reitoria
PRIORITY:3
TRANSP:0
END:VEVENT
END:VCALENDAR
