BEGIN:VCALENDAR
PRODID:brasil.gov.agenda
VERSION:1.0
BEGIN:VEVENT
DTSTART:20221107T080000Z
DTEND:20221107T120000Z
DCREATED:20221108T172447Z
UID:Compromisso-db196efac30a476f934e3c95882c77cb
SEQUENCE:0
LAST-MODIFIED:20221108T172447Z
SUMMARY:Despachos Internos
LOCATION:Reitoria
PRIORITY:3
TRANSP:0
END:VEVENT
END:VCALENDAR
