BEGIN:VCALENDAR
PRODID:brasil.gov.agenda
VERSION:1.0
BEGIN:VEVENT
DTSTART:20221107T140000Z
DTEND:20221107T180000Z
DCREATED:20221108T172503Z
UID:Compromisso-1f311c60d52d483cb6362e04fa1878ef
SEQUENCE:0
LAST-MODIFIED:20221108T172503Z
SUMMARY:Despachos Internos
LOCATION:Reitoria
PRIORITY:3
TRANSP:0
END:VEVENT
END:VCALENDAR
