BEGIN:VCALENDAR
PRODID:brasil.gov.agenda
VERSION:1.0
BEGIN:VEVENT
DTSTART:20221103T140000Z
DTEND:20221103T180000Z
DCREATED:20221104T164421Z
UID:Compromisso-df405ac1e6f34b8d83cfe5d8737e970d
SEQUENCE:0
LAST-MODIFIED:20221104T164451Z
SUMMARY:Consulta Médica
LOCATION:Reitoria
PRIORITY:3
TRANSP:0
END:VEVENT
END:VCALENDAR
