BEGIN:VCALENDAR
PRODID:brasil.gov.agenda
VERSION:1.0
BEGIN:VEVENT
DTSTART:20221101T080000Z
DTEND:20221101T120000Z
DCREATED:20221104T164300Z
UID:Compromisso-cebd7f98af564c22b4ef9560f60c2d50
SEQUENCE:0
LAST-MODIFIED:20221104T164300Z
SUMMARY:Despachos Internos
LOCATION:Reitoria
PRIORITY:3
TRANSP:0
END:VEVENT
END:VCALENDAR
