BEGIN:VCALENDAR
PRODID:brasil.gov.agenda
VERSION:1.0
BEGIN:VEVENT
DTSTART:20221101T140000Z
DTEND:20221101T180000Z
DCREATED:20221104T164317Z
UID:Compromisso-7cff4c86c39941419aafc4f87260c23d
SEQUENCE:0
LAST-MODIFIED:20221104T164317Z
SUMMARY:Despachos Internos
LOCATION:Reitoria
PRIORITY:3
TRANSP:0
END:VEVENT
END:VCALENDAR
