BEGIN:VCALENDAR
PRODID:brasil.gov.agenda
VERSION:1.0
BEGIN:VEVENT
DTSTART:20221027T080000Z
DTEND:20221027T120000Z
DCREATED:20221104T164016Z
UID:Compromisso-7390664c1ff543f8ba58012ab585502c
SEQUENCE:0
LAST-MODIFIED:20221104T164016Z
SUMMARY:Despachos Internos
LOCATION:Reitoria
PRIORITY:3
TRANSP:0
END:VEVENT
END:VCALENDAR
