BEGIN:VCALENDAR
PRODID:brasil.gov.agenda
VERSION:1.0
BEGIN:VEVENT
DTSTART:20221026T080000Z
DTEND:20221026T120000Z
DCREATED:20221104T163909Z
UID:Compromisso-abe25361600e4b818b60ec492f55c257
SEQUENCE:0
LAST-MODIFIED:20221104T163909Z
SUMMARY:Despachos Internos
LOCATION:Reitoria
PRIORITY:3
TRANSP:0
END:VEVENT
END:VCALENDAR
